BEGIN:VCALENDAR
VERSION:2.0
PRODID:-//Eastbourne Rovers - ECPv5.16.4//NONSGML v1.0//EN
CALSCALE:GREGORIAN
METHOD:PUBLISH
X-WR-CALNAME:Eastbourne Rovers
X-ORIGINAL-URL:https://www.eastbournerovers.club
X-WR-CALDESC:Events for Eastbourne Rovers
BEGIN:VTIMEZONE
TZID:UTC
BEGIN:STANDARD
TZOFFSETFROM:+0000
TZOFFSETTO:+0000
TZNAME:UTC
DTSTART:20180101T000000
END:STANDARD
END:VTIMEZONE
BEGIN:VEVENT
DTSTART;TZID=UTC:20181203T193000
DTEND;TZID=UTC:20181203T220000
DTSTAMP:20260424T082756
CREATED:20180115T231847Z
LAST-MODIFIED:20181127T141147Z
UID:2750-1543865400-1543874400@www.eastbournerovers.club
SUMMARY:Eastbourne Rovers AGM - 19:30 for 20:00 start
DESCRIPTION:This is your Club and your attendance and support would be much appreciated. \nIf there are any issues that you would like raised please feel free to contact Les Jones.
URL:https://www.eastbournerovers.club/event/club-agm/
END:VEVENT
END:VCALENDAR