BEGIN:VCALENDAR
VERSION:2.0
PRODID:-//Eastbourne Rovers - ECPv5.16.4//NONSGML v1.0//EN
CALSCALE:GREGORIAN
METHOD:PUBLISH
X-WR-CALNAME:Eastbourne Rovers
X-ORIGINAL-URL:https://www.eastbournerovers.club
X-WR-CALDESC:Events for Eastbourne Rovers
BEGIN:VTIMEZONE
TZID:UTC
BEGIN:STANDARD
TZOFFSETFROM:+0000
TZOFFSETTO:+0000
TZNAME:UTC
DTSTART:20200101T000000
END:STANDARD
END:VTIMEZONE
BEGIN:VEVENT
DTSTART;TZID=UTC:20200117T193000
DTEND;TZID=UTC:20200117T230000
DTSTAMP:20260421T145144
CREATED:20191214T152113Z
LAST-MODIFIED:20191214T153010Z
UID:3106-1579289400-1579302000@www.eastbournerovers.club
SUMMARY:Club Meal & Awards Social Evening
DESCRIPTION:Announcing the Eastbourne Rovers Cycling Club Meal and Awards Social Evening at The Langham on Friday 17th January 2020 7.30pm for 8.00pm. \nLet’s make this a great celebration of our super cycling season and being part of such a great Club. Get a table together\, wives\, husbands\, partners and friends are all welcome. \nTo book up\, click HERE.
URL:https://www.eastbournerovers.club/event/club-meal-awards-social-evening/
LOCATION:The Langham Hotel\, 43-49 Royal Parade\, Eastbourne\, East Sussex\, BN22 7AH\, United Kingdom
END:VEVENT
END:VCALENDAR