BEGIN:VCALENDAR
VERSION:2.0
PRODID:-//Eastbourne Rovers - ECPv5.16.4//NONSGML v1.0//EN
CALSCALE:GREGORIAN
METHOD:PUBLISH
X-WR-CALNAME:Eastbourne Rovers
X-ORIGINAL-URL:https://www.eastbournerovers.club
X-WR-CALDESC:Events for Eastbourne Rovers
BEGIN:VTIMEZONE
TZID:UTC
BEGIN:STANDARD
TZOFFSETFROM:+0000
TZOFFSETTO:+0000
TZNAME:UTC
DTSTART:20190101T000000
END:STANDARD
END:VTIMEZONE
BEGIN:VEVENT
DTSTART;TZID=UTC:20190429T203000
DTEND;TZID=UTC:20190429T213000
DTSTAMP:20260421T230434
CREATED:20180115T231547Z
LAST-MODIFIED:20190416T095207Z
UID:2744-1556569800-1556573400@www.eastbournerovers.club
SUMMARY:Committee Meeting
DESCRIPTION:
URL:https://www.eastbournerovers.club/event/committee-meeting-2/
END:VEVENT
END:VCALENDAR