BEGIN:VCALENDAR
VERSION:2.0
PRODID:-//Eastbourne Rovers - ECPv5.16.4//NONSGML v1.0//EN
CALSCALE:GREGORIAN
METHOD:PUBLISH
X-WR-CALNAME:Eastbourne Rovers
X-ORIGINAL-URL:https://www.eastbournerovers.club
X-WR-CALDESC:Events for Eastbourne Rovers
BEGIN:VTIMEZONE
TZID:UTC
BEGIN:STANDARD
TZOFFSETFROM:+0000
TZOFFSETTO:+0000
TZNAME:UTC
DTSTART:20190101T000000
END:STANDARD
END:VTIMEZONE
BEGIN:VEVENT
DTSTART;TZID=UTC:20190722T203000
DTEND;TZID=UTC:20190722T213000
DTSTAMP:20260421T212203
CREATED:20170724T090209Z
LAST-MODIFIED:20190122T141611Z
UID:1272-1563827400-1563831000@www.eastbournerovers.club
SUMMARY:Committee Meeting
DESCRIPTION:
URL:https://www.eastbournerovers.club/event/committee-meeting-4/
LOCATION:Stone Cross Memorial Hall\, Stone Cross\, Pevensey\, East Sussex\, BN24 5EJ\, United Kingdom
END:VEVENT
END:VCALENDAR