BEGIN:VCALENDAR
VERSION:2.0
PRODID:-//Eastbourne Rovers - ECPv5.16.4//NONSGML v1.0//EN
CALSCALE:GREGORIAN
METHOD:PUBLISH
X-WR-CALNAME:Eastbourne Rovers
X-ORIGINAL-URL:https://www.eastbournerovers.club
X-WR-CALDESC:Events for Eastbourne Rovers
BEGIN:VTIMEZONE
TZID:UTC
BEGIN:STANDARD
TZOFFSETFROM:+0000
TZOFFSETTO:+0000
TZNAME:UTC
DTSTART:20190101T000000
END:STANDARD
END:VTIMEZONE
BEGIN:VEVENT
DTSTART;TZID=UTC:20190429T184500
DTEND;TZID=UTC:20190429T203000
DTSTAMP:20260422T010244
CREATED:20170616T175202Z
LAST-MODIFIED:20190416T100104Z
UID:2462-1556563500-1556569800@www.eastbournerovers.club
SUMMARY:Mondays' Social Evening Ride
DESCRIPTION:space\nCome along and join Eastbourne Rovers for our fun social Monday evening ride. Normally a 15-mile ride at a relaxed pace of 15 mph\, this is a social ride suitable for all fitness and experience levels from newcomer onwards. \nMembers and guests meet at Stone Cross Memorial Hall on Monday evenings at 6:45 for 7pm start – helmets compulsory.
URL:https://www.eastbournerovers.club/event/mondays-social-evening-ride/
END:VEVENT
END:VCALENDAR