BEGIN:VCALENDAR
VERSION:2.0
PRODID:-//Eastbourne Rovers - ECPv5.16.4//NONSGML v1.0//EN
CALSCALE:GREGORIAN
METHOD:PUBLISH
X-WR-CALNAME:Eastbourne Rovers
X-ORIGINAL-URL:https://www.eastbournerovers.club
X-WR-CALDESC:Events for Eastbourne Rovers
BEGIN:VTIMEZONE
TZID:UTC
BEGIN:STANDARD
TZOFFSETFROM:+0000
TZOFFSETTO:+0000
TZNAME:UTC
DTSTART:20260101T000000
END:STANDARD
END:VTIMEZONE
BEGIN:VEVENT
DTSTART;TZID=UTC:20260730T193000
DTEND;TZID=UTC:20260730T213000
DTSTAMP:20260422T103933
CREATED:20170216T120506Z
LAST-MODIFIED:20260301T113441Z
UID:604-1785439800-1785447000@www.eastbournerovers.club
SUMMARY:Race #16 Evening Series 10mile TT
DESCRIPTION:  \nMEMBERS ONLY \nRACE START 19:30\nSigning on from 18:30 – 19:00\nMax no. of riders: 40 \nVENUE\nEast Hoathly Sports Pavilion \nENTRY FEE\n£6.00 \nSPECIAL CONDITIONS\nFront & rear lights and helmet compulsory\nPlease allow yourself a minimum of 5 mins to get to the start line! \nMAPS\nGarmin Connect users may access and download the course map by clicking here: Garmin\nA PDF file of the course and directions is available by clicking here: PDF \n 
URL:https://www.eastbournerovers.club/event/race-16-evening-series-10mile-tt/
LOCATION:East Hoathly Sports Pavilion\, Sports Pavilion\, East Hoathly\, East Sussex\, BN8 6QE\, United Kingdom
CATEGORIES:Club Time Trial
END:VEVENT
END:VCALENDAR