BEGIN:VCALENDAR
VERSION:2.0
PRODID:-//Eastbourne Rovers - ECPv5.16.4//NONSGML v1.0//EN
CALSCALE:GREGORIAN
METHOD:PUBLISH
X-WR-CALNAME:Eastbourne Rovers
X-ORIGINAL-URL:https://www.eastbournerovers.club
X-WR-CALDESC:Events for Eastbourne Rovers
BEGIN:VTIMEZONE
TZID:UTC
BEGIN:STANDARD
TZOFFSETFROM:+0000
TZOFFSETTO:+0000
TZNAME:UTC
DTSTART:20190101T000000
END:STANDARD
END:VTIMEZONE
BEGIN:VEVENT
DTSTART;TZID=UTC:20190118T193000
DTEND;TZID=UTC:20190118T233000
DTSTAMP:20260422T095100
CREATED:20181022T160949Z
LAST-MODIFIED:20181022T161011Z
UID:2913-1547839800-1547854200@www.eastbournerovers.club
SUMMARY:Rovers Annual Dinner & Awards evening
DESCRIPTION:This year it will be held at The Langham Hotel.  We will be taking over the main restaurant on Friday 18th January 2019\, 19:30 in the bar for a 20:00 sit down.  The cost will be £25 per head and a menu will be provided in due course for selection.  It would be appreciated if any trophies could be returned to Graham Lade at least 1 week before the presentations.\n\nIt’s been a great year for cycling and the weather has been fantastic.  Let’s celebrate all our achievements and have a great social evening.
URL:https://www.eastbournerovers.club/event/rovers-annual-dinner-awards-evening/
END:VEVENT
END:VCALENDAR