BEGIN:VCALENDAR
VERSION:2.0
PRODID:-//Eastbourne Rovers - ECPv5.16.4//NONSGML v1.0//EN
CALSCALE:GREGORIAN
METHOD:PUBLISH
X-WR-CALNAME:Eastbourne Rovers
X-ORIGINAL-URL:https://www.eastbournerovers.club
X-WR-CALDESC:Events for Eastbourne Rovers
BEGIN:VTIMEZONE
TZID:UTC
BEGIN:STANDARD
TZOFFSETFROM:+0000
TZOFFSETTO:+0000
TZNAME:UTC
DTSTART:20190101T000000
END:STANDARD
END:VTIMEZONE
BEGIN:VEVENT
DTSTART;TZID=UTC:20191216T190000
DTEND;TZID=UTC:20191216T203000
DTSTAMP:20260421T162610
CREATED:20191214T150919Z
LAST-MODIFIED:20191214T151543Z
UID:3101-1576522800-1576528200@www.eastbournerovers.club
SUMMARY:Turbo Training Session
DESCRIPTION:Come and join us for the last turbo session of the year. \nThe sessions last an hour\, they are great fun and are only as hard as you want to make them yourself\, so bring your bike\, your turbo a drink and a towel and have an enjoyable workout with friends. \n\nSet up from 7:00pm to start at 7:20pm
URL:https://www.eastbournerovers.club/event/turbo-training-session/
LOCATION:Stone Cross Memorial Hall\, Stone Cross\, Pevensey\, East Sussex\, BN24 5EJ\, United Kingdom
END:VEVENT
END:VCALENDAR